BEGIN:VCALENDAR
VERSION:2.0
PRODID:spatie/icalendar-generator
DESCRIPTION:Events from Tidewater Master Naturalists
X-WR-CALDESC:Events from Tidewater Master Naturalists
REFRESH-INTERVAL;VALUE=DURATION:PT1440M
X-PUBLISHED-TTL:PT1440M
BEGIN:VTIMEZONE
TZID:America/New_York
BEGIN:STANDARD
DTSTART:20251102T020000Z
TZOFFSETFROM:-0400
TZOFFSETTO:-0500
END:STANDARD
BEGIN:DAYLIGHT
DTSTART:20260308T020000Z
TZOFFSETFROM:-0500
TZOFFSETTO:-0400
END:DAYLIGHT
END:VTIMEZONE
BEGIN:VTIMEZONE
TZID:UTC
BEGIN:STANDARD
DTSTART:20250729T140152Z
TZOFFSETFROM:+0000
TZOFFSETTO:+0000
END:STANDARD
END:VTIMEZONE
BEGIN:VEVENT
UID:2628-1276
DTSTAMP:20260425T140152Z
SUMMARY:Volunteer Opportunity - Elizabeth River Project - Paradise Creek Ma
 rsh Trash Clean-Up (Portsmouth)
LOCATION:
ORGANIZER;CN=Ulrike Rumpf:MAILTO:ulrike.rumpf@gmail.com
DTSTART;TZID=America/New_York:20260424T090000
DTEND;TZID=America/New_York:20260424T120000
X-ALT-DESC;FMTTYPE=TEXT/HTML:Log Hours to: Clean up Projects /City / Local
  Park Stewardship - Paradise Creek Nature Park Date: Friday April 24\, 20
 26\, from 9 am to 12 noon Location: Paradise Creek Nature Park\, 1141 Vi
 ctory Blvd\, Portsmouth VA 23702 Details: Help Protect Wildlife—Volunte
 er for a Marsh Cleanup! Seasonal north winds blow trash into the marsh at 
 Paradise Creek Nature Park—and our&amp;hellip\;
CATEGORIES:Volunteer Opportunities
URL;VALUE=URI:
METHOD:PUBLISH
END:VEVENT
END:VCALENDAR