BEGIN:VCALENDAR
VERSION:2.0
PRODID:spatie/icalendar-generator
DESCRIPTION:Events from Tidewater Master Naturalists
X-WR-CALDESC:Events from Tidewater Master Naturalists
REFRESH-INTERVAL;VALUE=DURATION:PT1440M
X-PUBLISHED-TTL:PT1440M
BEGIN:VTIMEZONE
TZID:America/New_York
BEGIN:STANDARD
DTSTART:20251102T020000Z
TZOFFSETFROM:-0400
TZOFFSETTO:-0500
END:STANDARD
BEGIN:DAYLIGHT
DTSTART:20260308T020000Z
TZOFFSETFROM:-0500
TZOFFSETTO:-0400
END:DAYLIGHT
END:VTIMEZONE
BEGIN:VTIMEZONE
TZID:UTC
BEGIN:STANDARD
DTSTART:20250729T140330Z
TZOFFSETFROM:+0000
TZOFFSETTO:+0000
END:STANDARD
END:VTIMEZONE
BEGIN:VEVENT
UID:2627-1275
DTSTAMP:20260425T140330Z
SUMMARY:Volunteer Opportunity - Elizabeth River Project Volunteer Litter Cl
 eanup Harbor Park (Norfolk)
LOCATION:
ORGANIZER;CN=Ulrike Rumpf:MAILTO:ulrike.rumpf@gmail.com
DTSTART;TZID=America/New_York:20260411T090000
DTEND;TZID=America/New_York:20260411T103000
X-ALT-DESC;FMTTYPE=TEXT/HTML:Log Hours to: Elizabeth River Project - ERP C
 lean Up Projects Date: Saturday April 11\, from 9 am to 10:30 am Location
 : Harbor Park\, 150 Park Ave\, Norfolk VA 23510 Details: Come celebrate
  Earth Month and help make the Elizabeth River a cleaner\, healthier place
  for everyone by joining a community litter cleanup! Removing trash from 
 the shoreline protects the river’s&amp;hellip\;
CATEGORIES:Volunteer Opportunities
URL;VALUE=URI:
METHOD:PUBLISH
END:VEVENT
END:VCALENDAR