BEGIN:VCALENDAR
VERSION:2.0
PRODID:spatie/icalendar-generator
DESCRIPTION:Events from Tidewater Master Naturalists
X-WR-CALDESC:Events from Tidewater Master Naturalists
REFRESH-INTERVAL;VALUE=DURATION:PT1440M
X-PUBLISHED-TTL:PT1440M
BEGIN:VTIMEZONE
TZID:America/New_York
BEGIN:STANDARD
DTSTART:20251102T020000Z
TZOFFSETFROM:-0400
TZOFFSETTO:-0500
END:STANDARD
BEGIN:DAYLIGHT
DTSTART:20260308T020000Z
TZOFFSETFROM:-0500
TZOFFSETTO:-0400
END:DAYLIGHT
END:VTIMEZONE
BEGIN:VTIMEZONE
TZID:UTC
BEGIN:STANDARD
DTSTART:20250729T140249Z
TZOFFSETFROM:+0000
TZOFFSETTO:+0000
END:STANDARD
END:VTIMEZONE
BEGIN:VEVENT
UID:2623-1271
DTSTAMP:20260425T140249Z
SUMMARY:Volunteer Opportunity - Lynnhaven River Now - Build a Living Shorel
 ine (2 dates) | Thalia (Virginia Beach)
LOCATION:
ORGANIZER;CN=Ulrike Rumpf:MAILTO:ulrike.rumpf@gmail.com
RRULE:FREQ=DAILY;UNTIL=20260412T000000Z
DTSTART;TZID=America/New_York:20260411T080000
DTEND;TZID=America/New_York:20260411T120000
X-ALT-DESC;FMTTYPE=TEXT/HTML:Log Hours to: Lynnhaven River NOW – Living 
 Shoreline Projects Date:  April 10\, 2026 @ 8:00 AM — 12:00 PM EST Apr
 il 11\, 2026 @ 8:00 AM – 12:00 PM EST Location: Virginia Beach\, VA 234
 52 (Sign up to see exact location) Details: Build a natural defense for ou
 r waterways\, one 35 lb. oyster castle at a time!&amp;hellip\;
CATEGORIES:Volunteer Opportunities
URL;VALUE=URI:
METHOD:PUBLISH
END:VEVENT
END:VCALENDAR