BEGIN:VCALENDAR
VERSION:2.0
PRODID:spatie/icalendar-generator
DESCRIPTION:Events from Tidewater Master Naturalists
X-WR-CALDESC:Events from Tidewater Master Naturalists
REFRESH-INTERVAL;VALUE=DURATION:PT1440M
X-PUBLISHED-TTL:PT1440M
BEGIN:VTIMEZONE
TZID:America/New_York
BEGIN:STANDARD
DTSTART:20251102T020000Z
TZOFFSETFROM:-0400
TZOFFSETTO:-0500
END:STANDARD
BEGIN:DAYLIGHT
DTSTART:20260308T020000Z
TZOFFSETFROM:-0500
TZOFFSETTO:-0400
END:DAYLIGHT
END:VTIMEZONE
BEGIN:VTIMEZONE
TZID:UTC
BEGIN:STANDARD
DTSTART:20250729T140454Z
TZOFFSETFROM:+0000
TZOFFSETTO:+0000
END:STANDARD
END:VTIMEZONE
BEGIN:VEVENT
UID:2621-1270
DTSTAMP:20260425T140454Z
SUMMARY:Volunteer Opportunity - Lynnhaven River Now - Oyster Spat Collectio
 n (2 dates) | Spring Cohort (Virginia Beach)
LOCATION:
ORGANIZER;CN=Ulrike Rumpf:MAILTO:ulrike.rumpf@gmail.com
RRULE:FREQ=DAILY;UNTIL=20260425T000000Z
DTSTART;TZID=America/New_York:20260424T080000
DTEND;TZID=America/New_York:20260424T150000
X-ALT-DESC;FMTTYPE=TEXT/HTML:Log Hours to: Lynnhaven River NOW – Oyster 
 Restoration Date:  April 23\, 2026 @ 8:00 AM — 3:00PM EST April 24\, 2
 026 @ 8:00 AM – 3:00 PM EST Location: Virginia Beach\, VA 23455 (sign 
 up to see exact location) Details: Time for spring Spat Catchers to pull u
 p your cages! The spring cohort of spat catchers will drop&amp;hellip\;
CATEGORIES:Volunteer Opportunities
URL;VALUE=URI:
METHOD:PUBLISH
END:VEVENT
END:VCALENDAR