BEGIN:VCALENDAR
VERSION:2.0
PRODID:spatie/icalendar-generator
DESCRIPTION:Events from Tidewater Master Naturalists
X-WR-CALDESC:Events from Tidewater Master Naturalists
REFRESH-INTERVAL;VALUE=DURATION:PT1440M
X-PUBLISHED-TTL:PT1440M
BEGIN:VTIMEZONE
TZID:America/New_York
BEGIN:STANDARD
DTSTART:20251102T020000Z
TZOFFSETFROM:-0400
TZOFFSETTO:-0500
END:STANDARD
BEGIN:DAYLIGHT
DTSTART:20260308T020000Z
TZOFFSETFROM:-0500
TZOFFSETTO:-0400
END:DAYLIGHT
END:VTIMEZONE
BEGIN:VTIMEZONE
TZID:UTC
BEGIN:STANDARD
DTSTART:20250729T140330Z
TZOFFSETFROM:+0000
TZOFFSETTO:+0000
END:STANDARD
END:VTIMEZONE
BEGIN:VEVENT
UID:2618-1268
DTSTAMP:20260425T140330Z
SUMMARY:Volunteer Opportunity - Virginia Aquarium &amp;amp\; Marine Science Cen
 ter – Creek Clean-up (Monthly Event) (Virginia Beach)
LOCATION:
ORGANIZER;CN=Ulrike Rumpf:MAILTO:ulrike.rumpf@gmail.com
DTSTART;TZID=America/New_York:20260411T090000
DTEND;TZID=America/New_York:20260411T110000
X-ALT-DESC;FMTTYPE=TEXT/HTML:Log Hours to: VA Aquarium – Waterway Cleanu
 ps Date:  April 11\, 2026 @ 9:00AM — 11:00 AM Eastern Time Location: 
 North Building (717 General Booth Blvd. Virginia Beach\, VA 23451) Details
 : Want to volunteer but short on time? We host a monthly cleanup around th
 e Aquarium to remove trash and debris from the environment! Register by no
 on 7&amp;hellip\;
CATEGORIES:Volunteer Opportunities
URL;VALUE=URI:
METHOD:PUBLISH
END:VEVENT
END:VCALENDAR