BEGIN:VCALENDAR
VERSION:2.0
PRODID:spatie/icalendar-generator
DESCRIPTION:Events from Tidewater Master Naturalists
X-WR-CALDESC:Events from Tidewater Master Naturalists
REFRESH-INTERVAL;VALUE=DURATION:PT1440M
X-PUBLISHED-TTL:PT1440M
BEGIN:VTIMEZONE
TZID:America/New_York
BEGIN:STANDARD
DTSTART:20251102T020000Z
TZOFFSETFROM:-0400
TZOFFSETTO:-0500
END:STANDARD
BEGIN:DAYLIGHT
DTSTART:20260308T020000Z
TZOFFSETFROM:-0500
TZOFFSETTO:-0400
END:DAYLIGHT
END:VTIMEZONE
BEGIN:VTIMEZONE
TZID:UTC
BEGIN:STANDARD
DTSTART:20250729T140314Z
TZOFFSETFROM:+0000
TZOFFSETTO:+0000
END:STANDARD
END:VTIMEZONE
BEGIN:VEVENT
UID:2617-1267
DTSTAMP:20260425T140314Z
SUMMARY:Volunteer Opportunity (Zoom) - TMN - City Nature Challenge (CNC)
LOCATION:
ORGANIZER;CN=Ulrike Rumpf:MAILTO:ulrike.rumpf@gmail.com
DTSTART;TZID=America/New_York:20260401T190000
DTEND;TZID=America/New_York:20260401T200000
X-ALT-DESC;FMTTYPE=TEXT/HTML:Log Hours to: Citizen Science – iNaturalist
  Date: Apr 1\, 2026 07:00 PM Eastern Time Location: Join Zoom Meeting De
 tails: Please join us Wednesday evening for a preliminary planning session
  for the 2027 City Nature Challenge. We welcome insights from those who ha
 ve participated before\, but previous experience is not necessary.  If yo
 u missed the February meeting\, our&amp;hellip\;
CATEGORIES:Volunteer Opportunities
URL;VALUE=URI:
METHOD:PUBLISH
END:VEVENT
END:VCALENDAR