BEGIN:VCALENDAR
VERSION:2.0
PRODID:spatie/icalendar-generator
DESCRIPTION:Events from Tidewater Master Naturalists
X-WR-CALDESC:Events from Tidewater Master Naturalists
REFRESH-INTERVAL;VALUE=DURATION:PT1440M
X-PUBLISHED-TTL:PT1440M
BEGIN:VTIMEZONE
TZID:America/New_York
BEGIN:STANDARD
DTSTART:20251102T020000Z
TZOFFSETFROM:-0400
TZOFFSETTO:-0500
END:STANDARD
BEGIN:DAYLIGHT
DTSTART:20260308T020000Z
TZOFFSETFROM:-0500
TZOFFSETTO:-0400
END:DAYLIGHT
END:VTIMEZONE
BEGIN:VTIMEZONE
TZID:UTC
BEGIN:STANDARD
DTSTART:20250729T140443Z
TZOFFSETFROM:+0000
TZOFFSETTO:+0000
END:STANDARD
END:VTIMEZONE
BEGIN:VEVENT
UID:2615-1265
DTSTAMP:20260425T140443Z
SUMMARY:CE Opportunity - Jellyfish Ecology Presentation (False Cape State P
 ark\, Virginia Beach)
LOCATION:
ORGANIZER;CN=Ulrike Rumpf:MAILTO:ulrike.rumpf@gmail.com
DTSTART;TZID=America/New_York:20260418T090000
DTEND;TZID=America/New_York:20260418T130000
X-ALT-DESC;FMTTYPE=TEXT/HTML:There is also a Jelly Ecology Presentation for
  the Hampton Roads Area. This is a presentation to equip volunteers to par
 ticipate in the Sea Jelly Ecology Project we have listed under Wildlife an
 d Botanical Monitoring on better impact. It will go over how to identify s
 everal different orders and families of Sea Jellies that we can&amp;hellip\;
CATEGORIES:Continuing Education
URL;VALUE=URI:
METHOD:PUBLISH
END:VEVENT
END:VCALENDAR