BEGIN:VCALENDAR
VERSION:2.0
PRODID:spatie/icalendar-generator
DESCRIPTION:Events from Tidewater Master Naturalists
X-WR-CALDESC:Events from Tidewater Master Naturalists
REFRESH-INTERVAL;VALUE=DURATION:PT1440M
X-PUBLISHED-TTL:PT1440M
BEGIN:VTIMEZONE
TZID:America/New_York
BEGIN:STANDARD
DTSTART:20251102T020000Z
TZOFFSETFROM:-0400
TZOFFSETTO:-0500
END:STANDARD
BEGIN:DAYLIGHT
DTSTART:20260308T020000Z
TZOFFSETFROM:-0500
TZOFFSETTO:-0400
END:DAYLIGHT
END:VTIMEZONE
BEGIN:VTIMEZONE
TZID:UTC
BEGIN:STANDARD
DTSTART:20250729T140438Z
TZOFFSETFROM:+0000
TZOFFSETTO:+0000
END:STANDARD
END:VTIMEZONE
BEGIN:VEVENT
UID:1618-771
DTSTAMP:20260425T140438Z
SUMMARY:FLSP Trail Maintenance
LOCATION:
ORGANIZER;CN=Brian Scott:MAILTO:brian.scott20@gmail.com
DTSTART;TZID=America/New_York:20260411T080000
DTEND;TZID=America/New_York:20260411T100000
X-ALT-DESC;FMTTYPE=TEXT/HTML:Join us every second Saturday in TMN’s commi
 tment to support First Landing State Park. Our job is to keep the Bald Cyp
 ress and High Dunes trails in good condition by picking up trash\, clearin
 g natural debris and light trimming. It’s also a nice way to walk and ta
 lk in the woods with Chapter members.(2.6 mIles\,&amp;hellip\;
CATEGORIES:Volunteer Opportunities
URL;VALUE=URI:
METHOD:PUBLISH
END:VEVENT
END:VCALENDAR