BEGIN:VCALENDAR
VERSION:2.0
PRODID:spatie/icalendar-generator
DESCRIPTION:Events from Tidewater Master Naturalists
X-WR-CALDESC:Events from Tidewater Master Naturalists
REFRESH-INTERVAL;VALUE=DURATION:PT1440M
X-PUBLISHED-TTL:PT1440M
BEGIN:VTIMEZONE
TZID:America/New_York
BEGIN:STANDARD
DTSTART:20251102T020000Z
TZOFFSETFROM:-0400
TZOFFSETTO:-0500
END:STANDARD
BEGIN:DAYLIGHT
DTSTART:20260308T020000Z
TZOFFSETFROM:-0500
TZOFFSETTO:-0400
END:DAYLIGHT
END:VTIMEZONE
BEGIN:VTIMEZONE
TZID:UTC
BEGIN:STANDARD
DTSTART:20250729T153638Z
TZOFFSETFROM:+0000
TZOFFSETTO:+0000
END:STANDARD
END:VTIMEZONE
BEGIN:VEVENT
UID:2626-1274
DTSTAMP:20260425T153638Z
SUMMARY:Volunteer Opportunity - Paradise Creek Nature Park Volunteer Servic
 e Day (Portsmouth)
LOCATION:
ORGANIZER;CN=Ulrike Rumpf:MAILTO:ulrike.rumpf@gmail.com
DTSTART;TZID=America/New_York:20260404T090000
DTEND;TZID=America/New_York:20260404T110000
X-ALT-DESC;FMTTYPE=TEXT/HTML:Log Hours to: Clean up Projects /City / Local
  Park Stewardship - Paradise Creek Nature Park Date: Saturday April 4\, 2
 026\, 9 am to 11 am Location: Paradise Creek Nature Park\, 1141 Victory 
 Blvd\, Portsmouth\, VA 23702 Details: Volunteers will work with our staff
  on seasonal tasks such as weeding\, planting\, cleaning\, pruning\, and l
 ight maintenance. Dress for working outdoors\,&amp;hellip\;
CATEGORIES:Volunteer Opportunities
URL;VALUE=URI:
METHOD:PUBLISH
END:VEVENT
END:VCALENDAR