BEGIN:VCALENDAR
VERSION:2.0
PRODID:spatie/icalendar-generator
DESCRIPTION:Events from Tidewater Master Naturalists
X-WR-CALDESC:Events from Tidewater Master Naturalists
REFRESH-INTERVAL;VALUE=DURATION:PT1440M
X-PUBLISHED-TTL:PT1440M
BEGIN:VTIMEZONE
TZID:America/New_York
BEGIN:STANDARD
DTSTART:20251102T020000Z
TZOFFSETFROM:-0400
TZOFFSETTO:-0500
END:STANDARD
BEGIN:DAYLIGHT
DTSTART:20260308T020000Z
TZOFFSETFROM:-0500
TZOFFSETTO:-0400
END:DAYLIGHT
END:VTIMEZONE
BEGIN:VTIMEZONE
TZID:UTC
BEGIN:STANDARD
DTSTART:20250729T152050Z
TZOFFSETFROM:+0000
TZOFFSETTO:+0000
END:STANDARD
END:VTIMEZONE
BEGIN:VEVENT
UID:2619-1269
DTSTAMP:20260425T152050Z
SUMMARY:Volunteer Opportunity - Back Bay National Wildlife Refuge - Spring 
 planting and maintenance of the pollinator and monarch gardens
LOCATION:
ORGANIZER;CN=Ulrike Rumpf:MAILTO:ulrike.rumpf@gmail.com
DTSTART;TZID=America/New_York:20260418T093000
DTEND;TZID=America/New_York:20260418T103000
X-ALT-DESC;FMTTYPE=TEXT/HTML:Log Hours to: Back Bay National Wildlife Refu
 ge/False Cape State Park – BBNWR Society Pollinator Garden Date:  Apri
 l 18\, 2026 @ 9:30AM Location: 4005 Sandpiper Rd\, Virginia Beach\, VA 2
 3456 Details: The Society is having a garden workday on Saturday April 18 
 at 9:30am to plant 200 new milkweed plant plugs. And to prepare gardens f
 or the season. If you&amp;hellip\;
CATEGORIES:Volunteer Opportunities
URL;VALUE=URI:
METHOD:PUBLISH
END:VEVENT
END:VCALENDAR