BEGIN:VCALENDAR
VERSION:2.0
PRODID:spatie/icalendar-generator
DESCRIPTION:Events from Tidewater Master Naturalists
X-WR-CALDESC:Events from Tidewater Master Naturalists
REFRESH-INTERVAL;VALUE=DURATION:PT1440M
X-PUBLISHED-TTL:PT1440M
BEGIN:VTIMEZONE
TZID:America/New_York
BEGIN:STANDARD
DTSTART:20251102T020000Z
TZOFFSETFROM:-0400
TZOFFSETTO:-0500
END:STANDARD
BEGIN:DAYLIGHT
DTSTART:20260308T020000Z
TZOFFSETFROM:-0500
TZOFFSETTO:-0400
END:DAYLIGHT
END:VTIMEZONE
BEGIN:VTIMEZONE
TZID:UTC
BEGIN:STANDARD
DTSTART:20250729T153221Z
TZOFFSETFROM:+0000
TZOFFSETTO:+0000
END:STANDARD
END:VTIMEZONE
BEGIN:VEVENT
UID:2616-1266
DTSTAMP:20260425T153221Z
SUMMARY:Volunteer Opportunity - Lynnhaven River Now - April Waterway Cleanu
 p - Mt. Trashmore &amp;amp\; Lake Windsor (Virginia Beach)
LOCATION:
ORGANIZER;CN=Ulrike Rumpf:MAILTO:ulrike.rumpf@gmail.com
DTSTART;TZID=America/New_York:20260411T090000
DTEND;TZID=America/New_York:20260411T120000
X-ALT-DESC;FMTTYPE=TEXT/HTML:Log Hours to: Lynnhaven River NOW – Lynnhav
 en River Now Waterway Cleanups Date:  April 11\, 2026 @ 9:00AM — 12:00
 PM Eastern Time Location: Virginia Beach\, VA 23453 (sign up to see exact
  location) Details: LRNow cleanups remove debris to improve water quality 
 and keep Virginia Beach waters safe. Join us to protect our environment an
 d ensure clean water!&amp;hellip\;
CATEGORIES:Volunteer Opportunities
URL;VALUE=URI:
METHOD:PUBLISH
END:VEVENT
END:VCALENDAR