BEGIN:VCALENDAR
VERSION:2.0
PRODID:spatie/icalendar-generator
DESCRIPTION:Events from Tidewater Master Naturalists
X-WR-CALDESC:Events from Tidewater Master Naturalists
REFRESH-INTERVAL;VALUE=DURATION:PT1440M
X-PUBLISHED-TTL:PT1440M
BEGIN:VTIMEZONE
TZID:America/New_York
BEGIN:STANDARD
DTSTART:20251102T020000Z
TZOFFSETFROM:-0400
TZOFFSETTO:-0500
END:STANDARD
BEGIN:DAYLIGHT
DTSTART:20260308T020000Z
TZOFFSETFROM:-0500
TZOFFSETTO:-0400
END:DAYLIGHT
END:VTIMEZONE
BEGIN:VTIMEZONE
TZID:UTC
BEGIN:STANDARD
DTSTART:20250729T153105Z
TZOFFSETFROM:+0000
TZOFFSETTO:+0000
END:STANDARD
END:VTIMEZONE
BEGIN:VEVENT
UID:2590-1244
DTSTAMP:20260425T153105Z
SUMMARY:CE Opportunity - Leave No Trace Instructor Training (Hiwassee\, VA)
LOCATION:
ORGANIZER;CN=Ulrike Rumpf:MAILTO:ulrike.rumpf@gmail.com
DTSTART;TZID=America/New_York;VALUE=DATE:20260420
DTEND;TZID=America/New_York;VALUE=DATE:20260425
X-ALT-DESC;FMTTYPE=TEXT/HTML:Leave No Trace Instructor Training Want to imp
 rove your knowledge and skills related to Leave No Trace principles so tha
 t you can share them with others? Upon completion of this multi-day course
 \, you will gain Official Leave No Trace Level 2 Instructor status. Date/L
 ocation: April 20-24\, 2026 at Camp Powhatan\, Hiwassee\, VA For pricing\,
  details\,&amp;hellip\;
CATEGORIES:Continuing Education
URL;VALUE=URI:
METHOD:PUBLISH
END:VEVENT
END:VCALENDAR