BEGIN:VCALENDAR
VERSION:2.0
PRODID:spatie/icalendar-generator
DESCRIPTION:Events from Tidewater Master Naturalists
X-WR-CALDESC:Events from Tidewater Master Naturalists
REFRESH-INTERVAL;VALUE=DURATION:PT1440M
X-PUBLISHED-TTL:PT1440M
BEGIN:VTIMEZONE
TZID:America/New_York
BEGIN:STANDARD
DTSTART:20251102T020000Z
TZOFFSETFROM:-0400
TZOFFSETTO:-0500
END:STANDARD
BEGIN:DAYLIGHT
DTSTART:20260308T020000Z
TZOFFSETFROM:-0500
TZOFFSETTO:-0400
END:DAYLIGHT
END:VTIMEZONE
BEGIN:VTIMEZONE
TZID:UTC
BEGIN:STANDARD
DTSTART:20250729T155501Z
TZOFFSETFROM:+0000
TZOFFSETTO:+0000
END:STANDARD
END:VTIMEZONE
BEGIN:VEVENT
UID:2570-1232
DTSTAMP:20260425T155501Z
SUMMARY:TMN Monthly Meeting
LOCATION:
ORGANIZER;CN=Ulrike Rumpf:MAILTO:ulrike.rumpf@gmail.com
RRULE:FREQ=MONTHLY;BYDAY=3WE;UNTIL=20261130T000000Z
DTSTART;TZID=America/New_York:20260415T190000
DTEND;TZID=America/New_York:20260415T210000
X-ALT-DESC;FMTTYPE=TEXT/HTML:Location: Virginia Wesleyan University\, Greer
  Environmental Science Center (Virginia Beach) Guest Speaker/Topic: To be 
 announced Business meeting to follow
CATEGORIES:Continuing Education,  General,  Meeting
URL;VALUE=URI:
METHOD:PUBLISH
END:VEVENT
END:VCALENDAR