BEGIN:VCALENDAR
VERSION:2.0
PRODID:spatie/icalendar-generator
DESCRIPTION:Events from Tidewater Master Naturalists
X-WR-CALDESC:Events from Tidewater Master Naturalists
REFRESH-INTERVAL;VALUE=DURATION:PT1440M
X-PUBLISHED-TTL:PT1440M
BEGIN:VTIMEZONE
TZID:America/New_York
BEGIN:STANDARD
DTSTART:20251102T020000Z
TZOFFSETFROM:-0400
TZOFFSETTO:-0500
END:STANDARD
BEGIN:DAYLIGHT
DTSTART:20260308T020000Z
TZOFFSETFROM:-0500
TZOFFSETTO:-0400
END:DAYLIGHT
END:VTIMEZONE
BEGIN:VTIMEZONE
TZID:UTC
BEGIN:STANDARD
DTSTART:20250729T154019Z
TZOFFSETFROM:+0000
TZOFFSETTO:+0000
END:STANDARD
END:VTIMEZONE
BEGIN:VEVENT
UID:2536-1218
DTSTAMP:20260425T154019Z
SUMMARY:Volunteer Opportunity - Hoffler Creek – Volunteer Environment/Hab
 itat Work Days (Portsmouth)
LOCATION:
ORGANIZER;CN=Ulrike Rumpf:MAILTO:ulrike.rumpf@gmail.com
RRULE:FREQ=MONTHLY;BYDAY=3SA;UNTIL=20261226T000000Z
DTSTART;TZID=America/New_York:20260418T100000
DTEND;TZID=America/New_York:20260418T130000
X-ALT-DESC;FMTTYPE=TEXT/HTML:Log Hours to: Hoffler Creek Nature Preserve 
 – Hoffler Creek Volunteer Work Days Dates: Saturday\, December 20\, 2025
  From 10:00 AM - 1:00 PM Saturday\, January 17\, 2026 From 10:00 AM - 1:
 00 PM Saturday\, February 21\, 2026 From 10:00 AM - 1:00 PM Saturday\, Ma
 rch 21\, 2026 From 10:00 AM - 1:00 PM Saturday\, April 18\, 2026 From 10
 :00 AM&amp;hellip\;
CATEGORIES:Volunteer Opportunities
URL;VALUE=URI:
METHOD:PUBLISH
END:VEVENT
END:VCALENDAR